BEGIN:VCALENDAR
VERSION:2.0
PRODID:-//Ski- und Bergclub Melchseefrutt-Kerns - ECPv6.13.0//NONSGML v1.0//EN
CALSCALE:GREGORIAN
METHOD:PUBLISH
X-ORIGINAL-URL:https://www.sckerns.ch
X-WR-CALDESC:Veranstaltungen für Ski- und Bergclub Melchseefrutt-Kerns
REFRESH-INTERVAL;VALUE=DURATION:PT1H
X-Robots-Tag:noindex
X-PUBLISHED-TTL:PT1H
BEGIN:VTIMEZONE
TZID:Europe/Zurich
BEGIN:DAYLIGHT
TZOFFSETFROM:+0100
TZOFFSETTO:+0200
TZNAME:CEST
DTSTART:20240331T010000
END:DAYLIGHT
BEGIN:STANDARD
TZOFFSETFROM:+0200
TZOFFSETTO:+0100
TZNAME:CET
DTSTART:20241027T010000
END:STANDARD
BEGIN:DAYLIGHT
TZOFFSETFROM:+0100
TZOFFSETTO:+0200
TZNAME:CEST
DTSTART:20250330T010000
END:DAYLIGHT
BEGIN:STANDARD
TZOFFSETFROM:+0200
TZOFFSETTO:+0100
TZNAME:CET
DTSTART:20251026T010000
END:STANDARD
BEGIN:DAYLIGHT
TZOFFSETFROM:+0100
TZOFFSETTO:+0200
TZNAME:CEST
DTSTART:20260329T010000
END:DAYLIGHT
BEGIN:STANDARD
TZOFFSETFROM:+0200
TZOFFSETTO:+0100
TZNAME:CET
DTSTART:20261025T010000
END:STANDARD
END:VTIMEZONE
BEGIN:VEVENT
DTSTART;TZID=Europe/Zurich:20260404T160000
DTEND;TZID=Europe/Zurich:20260404T200000
DTSTAMP:20260419T195655
CREATED:20250928T202736Z
LAST-MODIFIED:20250928T202736Z
UID:2594-1775318400-1775332800@www.sckerns.ch
SUMMARY:Boni-Derby
DESCRIPTION:Das Boni-Derby gehört zum Programm der Skiclubs Melchtal\, Flüeli-Ranft und Kerns. \nAb 16.00 Uhr trifft man sich auf dem Bonistock zum munteren Sprüche klopfen.\nAb 17.00 Uhr starten wir\, je nachdem im Massenstart oder im 30 Sekunden-Intervall\, Richtung\nFrutt (Posthuis).\nUm ca. 18.30 Uhr findet an der Posthuisbar die Rangverkündigung statt. Anschliessend ist\ntraditionsgemäss ein Nachtessen organisiert. \nDas Derby wird bei jeder Witterung abgehalten: Anmeldung ist keine erforderlich!
URL:https://www.sckerns.ch/event/boni-derby-2/
LOCATION:Bergstation Luftseilbahn Bonistock
END:VEVENT
BEGIN:VEVENT
DTSTART;TZID=Europe/Zurich:20260301T080000
DTEND;TZID=Europe/Zurich:20260301T140000
DTSTAMP:20260419T195655
CREATED:20251005T130729Z
LAST-MODIFIED:20260223T210448Z
UID:2608-1772352000-1772373600@www.sckerns.ch
SUMMARY:Schülerinnen- und Schüler-Skirennen
DESCRIPTION:Der Ski- und Bergclub Melchseefrutt Kerns führt auch dieses Jahr wieder ein Schüler-Skirennen für alle Schüler von Kindergarten bis zur Orientierungsstufe aus Kerns durch. \nWann: 01.03.2026\nWo: Melchsee-Frutt\, Piste Vogelbüel \nTeilnahmeberechtigt sind alle Schülerinnen und Schüler aus Kerns und Melchtal (Kindergarten bis 3. IOS) / Ski und Snowboard. \nAnmeldung: www. sckerns.ch/events\nAnmeldeschluss: 23.02.2026 \nStartnummernausgabe: 08:15 bis 9:00 Uhr beim Restaurant Waldhaus / Stöckalp\nStrecken-Besichtigung: 09:50 bis 10:20 Uhr\nStart Rennen: 10:30 Uhr (bitte 20 Min. vor Rennstart im Startgebiet bereit sein)\nRangverkündigung: ca.13:30 bei der Fuchs und Hase Beiz\nModus: Riesenslalom Torlauf mit einem Lauf (auch Snowboarder) \nKosten: CHF 15.00 – zahlbar per Twint bei der Startnummernausgabe\nPreise: jeder bekommt etwas\, Medaillen und Pokale für die Schnellsten\nVerpflegung: jeder bekommt ein Hot-Dog und etwas zu Trinken \nTickets/Skipässe: Bitte benötigte Tickets bei der Anmeldung vermerken \nAuskunft Durchführung: Samstag\, 28. Februar 2026\, ab 18:00 Uhr direkt auf der Homepage www.sckerns.ch \nDas Tragen eines Helmes am Rennen ist obligatorisch. Rennanzüge sind nicht gestattet.\nWichtig: Alle teilnehmenden Kinder müssen selbständig Lift fahren können. \nVersicherung ist Sache der Teilnehmer\, der Ski- und Bergclub Melchseefrutt-Kerns lehnt jegliche Haftung ab. \n➔ Wir suchen noch Helfer für das Skirennen!\nPersonen\, welche unterstützen möchten\, melden sich bitte bei Silvio Michel über WhatsApp oder via Telefon: 079 265 38 62 \nBei Fragen/Unklarheiten: info@sckerns.ch
URL:https://www.sckerns.ch/event/schuelerinnen-und-schueler-skirennen/
END:VEVENT
BEGIN:VEVENT
DTSTART;TZID=Europe/Zurich:20260215T090000
DTEND;TZID=Europe/Zurich:20260215T160000
DTSTAMP:20260419T195655
CREATED:20250928T202427Z
LAST-MODIFIED:20260123T213956Z
UID:2586-1771146000-1771171200@www.sckerns.ch
SUMMARY:Clubrennen
DESCRIPTION:Eines der Highlights im Winter ist unser Clubrennen auf der Erzegg-Piste. \nAnmeldung bitte bis spätestens Mittwoch\, 11. Februar.
URL:https://www.sckerns.ch/event/clubrennen-2/
END:VEVENT
BEGIN:VEVENT
DTSTART;TZID=Europe/Zurich:20260214T080000
DTEND;TZID=Europe/Zurich:20260221T170000
DTSTAMP:20260419T195655
CREATED:20250928T202644Z
LAST-MODIFIED:20250928T202644Z
UID:2592-1771056000-1771693200@www.sckerns.ch
SUMMARY:Clubwoche
DESCRIPTION:In dieser Woche steht das gesamte Clubhaus ausschliesslich unseren Club-Mitgliedern zur Verfügung.
URL:https://www.sckerns.ch/event/clubwoche-2/
LOCATION:Clubhaus Bergfrieden\, Tannalpstrasse 11\, Melchsee-Frutt\, 6068\, Switzerland
END:VEVENT
BEGIN:VEVENT
DTSTART;TZID=Europe/Zurich:20260209T080000
DTEND;TZID=Europe/Zurich:20260213T170000
DTSTAMP:20260419T195655
CREATED:20250928T202600Z
LAST-MODIFIED:20250928T202600Z
UID:2590-1770624000-1771002000@www.sckerns.ch
SUMMARY:Snow-Camp (Lager)
DESCRIPTION:Auch in diesem Winter ist das SnowCamp wieder fester Bestandteil unserer Aktivitäten.\nDie Planung und Vorbereitung für das SnowCamp erfolgt im Anschluss an die Vorbereitung der TG-Frutt.\nDie Teilnehmerzahl ist begrenzt und die definitive Ausschreibung für das Snowcamp wird rechtzeitig versendet. \nGerne gibt Esther auch telefonisch Auskunft und nimmt Anmeldungen ab sofort entgegen:\nEsther Omlin 076 495 85 79 \nDie Versicherung ist Sache des Teilnehmers.
URL:https://www.sckerns.ch/event/snow-camp-lager-2/
LOCATION:Clubhaus Bergfrieden\, Tannalpstrasse 11\, Melchsee-Frutt\, 6068\, Switzerland
END:VEVENT
BEGIN:VEVENT
DTSTART;TZID=Europe/Zurich:20260131T090000
DTEND;TZID=Europe/Zurich:20260131T120000
DTSTAMP:20260419T195655
CREATED:20250928T201957Z
LAST-MODIFIED:20251003T184942Z
UID:2582-1769850000-1769860800@www.sckerns.ch
SUMMARY:Langlauf Event
DESCRIPTION:Dieser Event ist für alle! \nEgal ob du schon Profi bist oder noch nie auf Langlaufskis gestanden bist. Je nach Teilnehmerzahl werden wir uns wieder in zwei Gruppen aufteilen.\nVoraussichtlich werden wir eine Skating- und eine klassische Gruppe machen. Diejenigen\, welche noch Material benötigen\, können dies im Frutt Rental beziehen.\nWir treffen uns um 9.00 Uhr beim Frutt Rental auf Melchsee-Frutt. \nBitte meldet euch bis 24. Januar 2026 an: \nPS: Für alle die möchten\, werden wir im Distelboden reservieren\, damit wir unsere Kraftreserven wieder auffüllen können.
URL:https://www.sckerns.ch/event/langlauf-event-2/
LOCATION:Frutt Rental\, Frutt 1\, Melchsee-Frutt\, 6068\, Switzerland
END:VEVENT
BEGIN:VEVENT
DTSTART;TZID=Europe/Zurich:20251213T110000
DTEND;TZID=Europe/Zurich:20251213T160000
DTSTAMP:20260419T195655
CREATED:20250519T204904Z
LAST-MODIFIED:20251003T184850Z
UID:2383-1765623600-1765641600@www.sckerns.ch
SUMMARY:Saisoneröffnungs-Apéro
DESCRIPTION:Wir treffen uns ab ca. 11.00 Uhr im Clubhaus Bergfrieden zu einem gemütlichen Eröffnungsapéro. \nAnschliessend gibt es ein Mittagessen. \nWir freuen uns auf euren Besuch.
URL:https://www.sckerns.ch/event/saisoneroeffnungs-apero-2/
END:VEVENT
BEGIN:VEVENT
DTSTART;TZID=Europe/Zurich:20251107T200000
DTEND;TZID=Europe/Zurich:20251107T230000
DTSTAMP:20260419T195655
CREATED:20250519T204744Z
LAST-MODIFIED:20251003T184739Z
UID:2381-1762545600-1762556400@www.sckerns.ch
SUMMARY:DOG-Plauschturnier
DESCRIPTION:Ein Spieleabend unter „Zeitdruck“ und mit einem garantierten Geschenk zum Schluss. \nTurnierbeginn: 20.00 Uhr \nWo: Betagtenheim Huwel\, Kerns \nMitnehmen: 1 kleines Geschenk \n  \nEs ist keine Anmeldung notwendig.
URL:https://www.sckerns.ch/event/dog-plauschturnier-2/
END:VEVENT
BEGIN:VEVENT
DTSTART;TZID=Europe/Zurich:20251025T090000
DTEND;TZID=Europe/Zurich:20251025T120000
DTSTAMP:20260419T195655
CREATED:20250519T204551Z
LAST-MODIFIED:20250923T194223Z
UID:2378-1761382800-1761393600@www.sckerns.ch
SUMMARY:Veteranentreffen
DESCRIPTION:Gemütliches Beisammensein und in den guten alten Zeiten schwelgen. \nTreffpunkt: Bergrestaurant Schwendi-Kaltbad \nPreis: CHF 45.- / Erwachsene inkl. Kaffee\, Tee\, Milch\, Ovo\, O-Saft und Hahnenwasser \nAbrechnung der Getränke: ab 12.00 Uhr \n  \nAnmeldeschluss: Montag\, 20.10.2025 \nZufahrt bis zum Restaurant mit Auto möglich
URL:https://www.sckerns.ch/event/veteranentreffen-2/
END:VEVENT
BEGIN:VEVENT
DTSTART;TZID=Europe/Zurich:20250925T080000
DTEND;TZID=Europe/Zurich:20250925T170000
DTSTAMP:20260419T195655
CREATED:20241028T204445Z
LAST-MODIFIED:20250519T204331Z
UID:317-1758787200-1758819600@www.sckerns.ch
SUMMARY:Club Bike-Tag
DESCRIPTION:Wir sind gespannt wohin uns der Club Bike-Tag in diesem Jahr bringen wird.
URL:https://www.sckerns.ch/event/club-bike-tag/
END:VEVENT
BEGIN:VEVENT
DTSTART;TZID=Europe/Zurich:20250815T080000
DTEND;TZID=Europe/Zurich:20250815T170000
DTSTAMP:20260419T195655
CREATED:20241028T204453Z
LAST-MODIFIED:20250629T201422Z
UID:315-1755244800-1755277200@www.sckerns.ch
SUMMARY:Sommer-Event
DESCRIPTION:2025_Sommer-Event \nUnser beliebter Sommer-Event findet auch in diesem Jahr wieder zum gewohnten Zeitpunkt statt.
URL:https://www.sckerns.ch/event/sommer-event/
END:VEVENT
BEGIN:VEVENT
DTSTART;TZID=Europe/Zurich:20250523T190000
DTEND;TZID=Europe/Zurich:20250523T230000
DTSTAMP:20260419T195655
CREATED:20241028T204500Z
LAST-MODIFIED:20250417T115559Z
UID:313-1748026800-1748041200@www.sckerns.ch
SUMMARY:Mitgliederversammlung
DESCRIPTION:Einmal im Jahr führen wir die Mitgliederversammlung gemäss unseren Statuten durch.
URL:https://www.sckerns.ch/event/mitgliederversammlung/
LOCATION:Restaurant Alouette\, Eichistrasse 13\, Alpnach\, 6055\, Switzerland
ORGANIZER;CN="Ski- und Bergclub Melchseefrutt-Kerns":MAILTO:info@sckerns.ch
END:VEVENT
BEGIN:VEVENT
DTSTART;TZID=Europe/Zurich:20250406T080000
DTEND;TZID=Europe/Zurich:20250406T170000
DTSTAMP:20260419T195655
CREATED:20241028T204507Z
LAST-MODIFIED:20241028T204507Z
UID:321-1743926400-1743958800@www.sckerns.ch
SUMMARY:SwissSki Skicross Tour (Rennen)
DESCRIPTION:SwissSki Skicross Tour (Rennen)
URL:https://www.sckerns.ch/event/swissski-skicross-tour-rennen/
END:VEVENT
BEGIN:VEVENT
DTSTART;TZID=Europe/Zurich:20250405T160000
DTEND;TZID=Europe/Zurich:20250405T200000
DTSTAMP:20260419T195655
CREATED:20241028T204516Z
LAST-MODIFIED:20241028T204516Z
UID:310-1743868800-1743883200@www.sckerns.ch
SUMMARY:Boni-Derby
DESCRIPTION:Das Boni-Derby gehört zum Programm der Skiclubs Melchtal\, Flüeli-Ranft und Kerns. \nAb 16.00 Uhr trifft man sich auf dem Bonistock zum munteren Sprüche klopfen.\nAb 17.00 Uhr starten wir\, je nachdem im Massenstart oder im 30 Sekunden-Intervall\, Richtung\nFrutt (Posthuis).\nUm ca. 18.30 Uhr findet an der Posthuisbar die Rangverkündigung statt. Anschliessend ist\ntraditionsgemäss ein Nachtessen organisiert. \nDas Derby wird bei jeder Witterung abgehalten: Anmeldung ist keine erforderlich!
URL:https://www.sckerns.ch/event/boni-derby/
LOCATION:Bergstation Luftseilbahn Bonistock
END:VEVENT
BEGIN:VEVENT
DTSTART;TZID=Europe/Zurich:20250404T080000
DTEND;TZID=Europe/Zurich:20250404T170000
DTSTAMP:20260419T195655
CREATED:20241028T204541Z
LAST-MODIFIED:20241028T204541Z
UID:319-1743753600-1743786000@www.sckerns.ch
SUMMARY:SwissSki Skicross Tour (Vorbereitung)
DESCRIPTION:SwissSki Skicross Tour (Vorbereitung)
URL:https://www.sckerns.ch/event/swissski-skicross-tour-vorbereitung/
END:VEVENT
BEGIN:VEVENT
DTSTART;TZID=Europe/Zurich:20250302T090000
DTEND;TZID=Europe/Zurich:20250302T160000
DTSTAMP:20260419T195655
CREATED:20241028T204549Z
LAST-MODIFIED:20241028T204549Z
UID:306-1740906000-1740931200@www.sckerns.ch
SUMMARY:Clubrennen
DESCRIPTION:Eines der Highlights im Winter ist unser Clubrennen auf der Erzegg-Piste. \nAnmeldung bitte bis spätestens Mittwoch\, 26. Februar\, an Silvio Michel:\nsilvio.92@hotmail.com oder 079 265 38 62 \nWir benötigen folgende Angaben von euch: \n\nName\nVorname\nJahrgang\nAnzahl Mittagessen
URL:https://www.sckerns.ch/event/clubrennen/
END:VEVENT
BEGIN:VEVENT
DTSTART;TZID=Europe/Zurich:20250301T080000
DTEND;TZID=Europe/Zurich:20250308T170000
DTSTAMP:20260419T195655
CREATED:20241028T204557Z
LAST-MODIFIED:20241103T152836Z
UID:308-1740816000-1741453200@www.sckerns.ch
SUMMARY:Clubwoche
DESCRIPTION:In dieser Woche steht das gesamte Clubhaus ausschliesslich unseren Club-Mitgliedern zur Verfügung.
URL:https://www.sckerns.ch/event/clubwoche/
LOCATION:Clubhaus Bergfrieden\, Tannalpstrasse 11\, Melchsee-Frutt\, 6068\, Switzerland
END:VEVENT
BEGIN:VEVENT
DTSTART;TZID=Europe/Zurich:20250224T080000
DTEND;TZID=Europe/Zurich:20250228T170000
DTSTAMP:20260419T195655
CREATED:20241028T204604Z
LAST-MODIFIED:20241103T152738Z
UID:304-1740384000-1740762000@www.sckerns.ch
SUMMARY:Snow-Camp (Lager)
DESCRIPTION:Auch in diesem Winter ist das SnowCamp wieder fester Bestandteil unserer Aktivitäten.\nDie Planung und Vorbereitung für das SnowCamp erfolgt im Anschluss an die Vorbereitung der TG-Frutt.\nDie Teilnehmerzahl ist begrenzt und die definitive Ausschreibung für das Snowcamp wird rechtzeitig versendet. \nGerne gibt Esther auch telefonisch Auskunft und nimmt Anmeldungen ab sofort entgegen:\nEsther Omlin 076 495 85 79 \nDie Versicherung ist Sache des Teilnehmers.
URL:https://www.sckerns.ch/event/snow-camp-lager/
LOCATION:Clubhaus Bergfrieden\, Tannalpstrasse 11\, Melchsee-Frutt\, 6068\, Switzerland
END:VEVENT
BEGIN:VEVENT
DTSTART;TZID=Europe/Zurich:20250208T090000
DTEND;TZID=Europe/Zurich:20250208T120000
DTSTAMP:20260419T195655
CREATED:20241028T204612Z
LAST-MODIFIED:20250202T181622Z
UID:298-1739005200-1739016000@www.sckerns.ch
SUMMARY:Langlauf Event
DESCRIPTION:Dieser Event ist für alle! Egal ob du schon Profi bist oder noch nie auf Langlaufskis gestanden bist. Je nach Teilnehmerzahl werden wir uns wieder in zwei Gruppen aufteilen.\nVoraussichtlich werden wir eine Skating- und eine klassische Gruppe machen. Diejenigen\, welche noch Material benötigen\, können dies im Frutt Rental beziehen.\nWir treffen uns um 9.00 Uhr beim Frutt Rental auf Melchsee-Frutt. \nBitte meldet euch bis 1. Februar 2025 bei Janette Michel\nschanet_@hotmail.com oder 079 649 26 48 mit folgenden Angaben an:\n• Vorname\, Name\, Adresse und Telefonnummer\n• Level: Einsteiger oder Fortgeschritten\n• Skating oder Klassisch\n• Wer Material benötigt: Schuhgrösse\, Körpergrösse\, Gewicht \nPS: Für alle die möchten\, werden wir im Distelboden reservieren\, damit wir unsere Kraftreserven\nwieder auffüllen können.
URL:https://www.sckerns.ch/event/langlauf-event/
LOCATION:Frutt Rental\, Frutt 1\, Melchsee-Frutt\, 6068\, Switzerland
END:VEVENT
BEGIN:VEVENT
DTSTART;TZID=Europe/Zurich:20250123T183000
DTEND;TZID=Europe/Zurich:20250123T230000
DTSTAMP:20260419T195655
CREATED:20241028T204622Z
LAST-MODIFIED:20250117T115456Z
UID:295-1737657000-1737673200@www.sckerns.ch
SUMMARY:Schneeschuhtour
DESCRIPTION:Je nach Schneeverhältnissen suchen wir uns den richtigen Ort für eine Abendtour mit anschliessendem Imbiss. Stirnlampe nicht vergessen.\nWer noch Schneeschuhe braucht\, darf diese gerne vorgängig organisieren. \nAnmeldung: bis Montag\, 20. Januar 2025\, Klick auf „Teilnehmen“ \nKontakt / Fragen:\nandre.hostettler@gmx.ch oder 079 456 79 73
URL:https://www.sckerns.ch/event/schneeschuhtour/
END:VEVENT
BEGIN:VEVENT
DTSTART;TZID=Europe/Zurich:20241221T110000
DTEND;TZID=Europe/Zurich:20241221T160000
DTSTAMP:20260419T195655
CREATED:20241028T204631Z
LAST-MODIFIED:20241103T152636Z
UID:291-1734778800-1734796800@www.sckerns.ch
SUMMARY:Saisoneröffnungs Apéro
DESCRIPTION:Wir treffen uns ab ca. 11.00 Uhr im Clubhaus Bergfrieden zu einem gemütlichen Eröffnungsapéro. \nAnschliessend gibt es ein Mittagessen. \nWir freuen uns auf euren Besuch.
URL:https://www.sckerns.ch/event/saisoneroeffnungs-apero/
LOCATION:Clubhaus Bergfrieden\, Tannalpstrasse 11\, Melchsee-Frutt\, 6068\, Switzerland
END:VEVENT
BEGIN:VEVENT
DTSTART;TZID=Europe/Zurich:20241108T200000
DTEND;TZID=Europe/Zurich:20241108T230000
DTSTAMP:20260419T195655
CREATED:20241028T204329Z
LAST-MODIFIED:20241028T204329Z
UID:288-1731096000-1731106800@www.sckerns.ch
SUMMARY:DOG-Plauschturnier
DESCRIPTION:… für die ganze Familie vom Anfänger bis zum Profi! \nMitnehmen: 1 kleines Geschenk
URL:https://www.sckerns.ch/event/dog-plauschturnier/
LOCATION:Huwel\, Kerns\, Huwel 8\, Kerns\, 6064\, Switzerland
END:VEVENT
BEGIN:VEVENT
DTSTART;TZID=Europe/Zurich:20241026T140000
DTEND;TZID=Europe/Zurich:20241026T170000
DTSTAMP:20260419T195655
CREATED:20241101T085409Z
LAST-MODIFIED:20241103T152512Z
UID:460-1729951200-1729962000@www.sckerns.ch
SUMMARY:Veteranentreffen 2024
DESCRIPTION:In diesem Jahr möchten wir einen „Nostalgie-Nachmittag“ durchführen. Falls ihr als Fotos\, Bilder\, Zeitschriften\, Dokumente oder sonstige Erinnerungsstücke im Zusammenhang mit dem Ski- und Bergclub habt\, dürft ihr diese gerne mitbringen. Ziel ist es\, dass wir in den „guten\, alten Zeiten“ schwelgen und die schönen Erinnerungen geniessen können.
URL:https://www.sckerns.ch/event/veteranentreffen/
LOCATION:Hotel / Restaurant Berg & Berg\, Kerns\, Dorfstrasse 18\, Kerns\, 6064\, Switzerland
END:VEVENT
END:VCALENDAR