BEGIN:VCALENDAR
VERSION:2.0
PRODID:-//Ski- und Bergclub Melchseefrutt-Kerns - ECPv6.13.0//NONSGML v1.0//EN
CALSCALE:GREGORIAN
METHOD:PUBLISH
X-WR-CALNAME:Ski- und Bergclub Melchseefrutt-Kerns
X-ORIGINAL-URL:https://www.sckerns.ch
X-WR-CALDESC:Veranstaltungen für Ski- und Bergclub Melchseefrutt-Kerns
REFRESH-INTERVAL;VALUE=DURATION:PT1H
X-Robots-Tag:noindex
X-PUBLISHED-TTL:PT1H
BEGIN:VTIMEZONE
TZID:Europe/Zurich
BEGIN:DAYLIGHT
TZOFFSETFROM:+0100
TZOFFSETTO:+0200
TZNAME:CEST
DTSTART:20260329T010000
END:DAYLIGHT
BEGIN:STANDARD
TZOFFSETFROM:+0200
TZOFFSETTO:+0100
TZNAME:CET
DTSTART:20261025T010000
END:STANDARD
END:VTIMEZONE
BEGIN:VEVENT
DTSTART;VALUE=DATE:20260417
DTEND;VALUE=DATE:20260420
DTSTAMP:20260419T193315
CREATED:20251003T202830Z
LAST-MODIFIED:20251003T202830Z
UID:2611-1776384000-1776643199@www.sckerns.ch
SUMMARY:Ski-Weekend\, Saas-Fee
DESCRIPTION:Wir werden vom 17. bis 19. April 2026 auf den Pisten von Saas-Fee\, den Winter nochmals richtig aufleben lassen und neu drei schöne und gemütliche Tage geniessen (Freitag bis Sonntag). \nEure Anmeldungen nehmen wir ab sofort via info@sckerns entgegen.
URL:https://www.sckerns.ch/event/ski-weekend-saas-fee/
LOCATION:Saas-Fee\, Panoramastrasse 3\, Saas-Fee\, 3906
END:VEVENT
BEGIN:VEVENT
DTSTART;TZID=Europe/Zurich:20260522T190000
DTEND;TZID=Europe/Zurich:20260522T230000
DTSTAMP:20260419T193315
CREATED:20250928T203029Z
LAST-MODIFIED:20250928T203029Z
UID:2596-1779476400-1779490800@www.sckerns.ch
SUMMARY:Mitgliederversammlung
DESCRIPTION:Einmal im Jahr führen wir die Mitgliederversammlung gemäss unseren Statuten durch.
URL:https://www.sckerns.ch/event/mitgliederversammlung-2/
ORGANIZER;CN="Ski- und Bergclub Melchseefrutt-Kerns":MAILTO:info@sckerns.ch
END:VEVENT
BEGIN:VEVENT
DTSTART;TZID=Europe/Zurich:20260823T080000
DTEND;TZID=Europe/Zurich:20260823T170000
DTSTAMP:20260419T193315
CREATED:20251005T131210Z
LAST-MODIFIED:20251005T131457Z
UID:2617-1787472000-1787504400@www.sckerns.ch
SUMMARY:Sommer-Event
DESCRIPTION:Unser beliebter Sommer-Event findet auch in diesem Jahr wieder statt.
URL:https://www.sckerns.ch/event/sommer-event-2/
END:VEVENT
BEGIN:VEVENT
DTSTART;VALUE=DATE:20260925
DTEND;VALUE=DATE:20260926
DTSTAMP:20260419T193315
CREATED:20251005T131310Z
LAST-MODIFIED:20251005T131310Z
UID:2620-1790294400-1790380799@www.sckerns.ch
SUMMARY:Club Bike-Tag
DESCRIPTION:Wir sind gespannt wohin uns der Club Bike-Tag in diesem Jahr bringen wird.
URL:https://www.sckerns.ch/event/club-bike-tag-2/
END:VEVENT
END:VCALENDAR